BEGIN:VCALENDAR
VERSION:2.0
PRODID:-//Opeka - ECPv6.15.16//NONSGML v1.0//EN
CALSCALE:GREGORIAN
METHOD:PUBLISH
X-WR-CALNAME:Opeka
X-ORIGINAL-URL:https://opeka.org.uk
X-WR-CALDESC:Events for Opeka
REFRESH-INTERVAL;VALUE=DURATION:PT1H
X-Robots-Tag:noindex
X-PUBLISHED-TTL:PT1H
BEGIN:VTIMEZONE
TZID:UTC
BEGIN:STANDARD
TZOFFSETFROM:+0000
TZOFFSETTO:+0000
TZNAME:UTC
DTSTART:20250101T000000
END:STANDARD
END:VTIMEZONE
BEGIN:VEVENT
DTSTART;VALUE=DATE:20260203
DTEND;VALUE=DATE:20260204
DTSTAMP:20260421T081747
CREATED:20251229T101309Z
LAST-MODIFIED:20251229T101309Z
UID:1240-1770076800-1770163199@opeka.org.uk
SUMMARY:Music and Massage (Johnny & Elaine\, Elaine and Mandy)
DESCRIPTION:
URL:https://opeka.org.uk/event/music-and-massage-johnny-elaine-elaine-and-mandy-28
LOCATION:Prince & Princess of Wales Hospice\, Prince & Princess of Wales Hospice\, Glasgow\, G41 5BW\, United Kingdom
ATTACH;FMTTYPE=image/webp:https://opeka.org.uk/wp-content/uploads/2025/06/Music-and-Massage.webp
END:VEVENT
BEGIN:VEVENT
DTSTART;VALUE=DATE:20260205
DTEND;VALUE=DATE:20260206
DTSTAMP:20260421T081747
CREATED:20260105T171217Z
LAST-MODIFIED:20260105T171217Z
UID:1343-1770249600-1770335999@opeka.org.uk
SUMMARY:Music and Seated Yoga (Johnny and Alison)
DESCRIPTION:
URL:https://opeka.org.uk/event/music-and-seated-yoga-johnny-and-alison-8
LOCATION:Carswell Centre\, Carswell Centre\, Eaglesham\, G76 0AS\, United Kingdom
ATTACH;FMTTYPE=image/webp:https://opeka.org.uk/wp-content/uploads/2025/06/Music-and-Seated-Yoga.webp
END:VEVENT
BEGIN:VEVENT
DTSTART;VALUE=DATE:20260206
DTEND;VALUE=DATE:20260207
DTSTAMP:20260421T081747
CREATED:20251229T102809Z
LAST-MODIFIED:20251229T102809Z
UID:1291-1770336000-1770422399@opeka.org.uk
SUMMARY:Art and Video Gaming (Inna and Chris)
DESCRIPTION:
URL:https://opeka.org.uk/event/art-and-video-gaming-inna-and-chris-11
LOCATION:Carswell Centre\, Carswell Centre\, Eaglesham\, G76 0AS\, United Kingdom
ATTACH;FMTTYPE=image/webp:https://opeka.org.uk/wp-content/uploads/2025/06/Art-and-Gaming.webp
END:VEVENT
BEGIN:VEVENT
DTSTART;VALUE=DATE:20260210
DTEND;VALUE=DATE:20260211
DTSTAMP:20260421T081747
CREATED:20251229T101338Z
LAST-MODIFIED:20251229T101338Z
UID:1242-1770681600-1770767999@opeka.org.uk
SUMMARY:Music and Massage (Johnny & Elaine\, Elaine and Mandy)
DESCRIPTION:
URL:https://opeka.org.uk/event/music-and-massage-johnny-elaine-elaine-and-mandy-29
LOCATION:Prince & Princess of Wales Hospice\, Prince & Princess of Wales Hospice\, Glasgow\, G41 5BW\, United Kingdom
ATTACH;FMTTYPE=image/webp:https://opeka.org.uk/wp-content/uploads/2025/06/Music-and-Massage.webp
END:VEVENT
BEGIN:VEVENT
DTSTART;VALUE=DATE:20260212
DTEND;VALUE=DATE:20260213
DTSTAMP:20260421T081747
CREATED:20260105T171247Z
LAST-MODIFIED:20260105T171247Z
UID:1345-1770854400-1770940799@opeka.org.uk
SUMMARY:Music and Baking (Johnny and Lesley)
DESCRIPTION:
URL:https://opeka.org.uk/event/music-and-baking-johnny-and-lesley-7
LOCATION:Carswell Centre\, Carswell Centre\, Eaglesham\, G76 0AS\, United Kingdom
ATTACH;FMTTYPE=image/webp:https://opeka.org.uk/wp-content/uploads/2025/07/Music-and-Baking.webp
END:VEVENT
BEGIN:VEVENT
DTSTART;VALUE=DATE:20260213
DTEND;VALUE=DATE:20260214
DTSTAMP:20260421T081747
CREATED:20251229T102911Z
LAST-MODIFIED:20251229T102911Z
UID:1293-1770940800-1771027199@opeka.org.uk
SUMMARY:Art and Pool/Snooker 3:30pm Finish
DESCRIPTION:
URL:https://opeka.org.uk/event/art-and-pool-snooker-330pm-finish-8
ATTACH;FMTTYPE=image/webp:https://opeka.org.uk/wp-content/uploads/2025/06/Art-and-Pool.webp
END:VEVENT
BEGIN:VEVENT
DTSTART;VALUE=DATE:20260217
DTEND;VALUE=DATE:20260218
DTSTAMP:20260421T081747
CREATED:20251229T101407Z
LAST-MODIFIED:20251229T101407Z
UID:1244-1771286400-1771372799@opeka.org.uk
SUMMARY:Music and Massage (Johnny & Elaine\, Elaine and Mandy)
DESCRIPTION:
URL:https://opeka.org.uk/event/music-and-massage-johnny-elaine-elaine-and-mandy-30
LOCATION:Prince & Princess of Wales Hospice\, Prince & Princess of Wales Hospice\, Glasgow\, G41 5BW\, United Kingdom
ATTACH;FMTTYPE=image/webp:https://opeka.org.uk/wp-content/uploads/2025/06/Music-and-Massage.webp
END:VEVENT
BEGIN:VEVENT
DTSTART;VALUE=DATE:20260220
DTEND;VALUE=DATE:20260221
DTSTAMP:20260421T081747
CREATED:20251229T102941Z
LAST-MODIFIED:20251229T102941Z
UID:1295-1771545600-1771631999@opeka.org.uk
SUMMARY:Art and Video Gaming (Inna and Chris)
DESCRIPTION:
URL:https://opeka.org.uk/event/art-and-video-gaming-inna-and-chris-12
LOCATION:Carswell Centre\, Carswell Centre\, Eaglesham\, G76 0AS\, United Kingdom
ATTACH;FMTTYPE=image/webp:https://opeka.org.uk/wp-content/uploads/2025/06/Art-and-Gaming.webp
END:VEVENT
BEGIN:VEVENT
DTSTART;VALUE=DATE:20260224
DTEND;VALUE=DATE:20260225
DTSTAMP:20260421T081747
CREATED:20251229T101448Z
LAST-MODIFIED:20251229T101448Z
UID:1246-1771891200-1771977599@opeka.org.uk
SUMMARY:Music and Massage (Johnny & Elaine\, Elaine and Mandy)
DESCRIPTION:
URL:https://opeka.org.uk/event/music-and-massage-johnny-elaine-elaine-and-mandy-31
LOCATION:Prince & Princess of Wales Hospice\, Prince & Princess of Wales Hospice\, Glasgow\, G41 5BW\, United Kingdom
ATTACH;FMTTYPE=image/webp:https://opeka.org.uk/wp-content/uploads/2025/06/Music-and-Massage.webp
END:VEVENT
BEGIN:VEVENT
DTSTART;VALUE=DATE:20260226
DTEND;VALUE=DATE:20260227
DTSTAMP:20260421T081747
CREATED:20260105T171312Z
LAST-MODIFIED:20260105T171312Z
UID:1347-1772064000-1772150399@opeka.org.uk
SUMMARY:Cycling at Glasgow Green
DESCRIPTION:
URL:https://opeka.org.uk/event/cycling-at-glasgow-green-5
ATTACH;FMTTYPE=image/webp:https://opeka.org.uk/wp-content/uploads/2025/06/Cycling.webp
END:VEVENT
BEGIN:VEVENT
DTSTART;VALUE=DATE:20260227
DTEND;VALUE=DATE:20260228
DTSTAMP:20260421T081747
CREATED:20251229T103011Z
LAST-MODIFIED:20251229T103011Z
UID:1297-1772150400-1772236799@opeka.org.uk
SUMMARY:Art and Baking (Inna and Lesley)
DESCRIPTION:
URL:https://opeka.org.uk/event/art-and-baking-inna-and-lesley-6
LOCATION:Carswell Centre\, Carswell Centre\, Eaglesham\, G76 0AS\, United Kingdom
ATTACH;FMTTYPE=image/webp:https://opeka.org.uk/wp-content/uploads/2025/06/Art-and-Baking.webp
END:VEVENT
END:VCALENDAR