BEGIN:VCALENDAR
VERSION:2.0
PRODID:-//Opeka - ECPv6.15.16//NONSGML v1.0//EN
CALSCALE:GREGORIAN
METHOD:PUBLISH
X-WR-CALNAME:Opeka
X-ORIGINAL-URL:https://opeka.org.uk
X-WR-CALDESC:Events for Opeka
REFRESH-INTERVAL;VALUE=DURATION:PT1H
X-Robots-Tag:noindex
X-PUBLISHED-TTL:PT1H
BEGIN:VTIMEZONE
TZID:UTC
BEGIN:STANDARD
TZOFFSETFROM:+0000
TZOFFSETTO:+0000
TZNAME:UTC
DTSTART:20240101T000000
END:STANDARD
END:VTIMEZONE
BEGIN:VEVENT
DTSTART;VALUE=DATE:20250808
DTEND;VALUE=DATE:20250809
DTSTAMP:20260420T021838
CREATED:20250613T153240Z
LAST-MODIFIED:20250710T114603Z
UID:546-1754611200-1754697599@opeka.org.uk
SUMMARY:Art and Pool/Snooker 3:30pm Finish
DESCRIPTION:
URL:https://opeka.org.uk/event/art-and-pool-snooker-330pm-finish-2
LOCATION:Carswell Centre\, Carswell Centre\, Eaglesham\, G76 0AS\, United Kingdom
ATTACH;FMTTYPE=image/webp:https://opeka.org.uk/wp-content/uploads/2025/06/Art-and-Pool.webp
END:VEVENT
BEGIN:VEVENT
DTSTART;VALUE=DATE:20250807
DTEND;VALUE=DATE:20250808
DTSTAMP:20260420T021838
CREATED:20250613T151256Z
LAST-MODIFIED:20250710T115540Z
UID:483-1754524800-1754611199@opeka.org.uk
SUMMARY:Music and Seated Yoga (Johnny and Alison)
DESCRIPTION:
URL:https://opeka.org.uk/event/music-and-seated-yoga-johnny-and-alison-2
LOCATION:Carswell Centre\, Carswell Centre\, Eaglesham\, G76 0AS\, United Kingdom
ATTACH;FMTTYPE=image/webp:https://opeka.org.uk/wp-content/uploads/2025/06/Music-and-Seated-Yoga.webp
END:VEVENT
BEGIN:VEVENT
DTSTART;VALUE=DATE:20250805
DTEND;VALUE=DATE:20250806
DTSTAMP:20260420T021838
CREATED:20250613T152608Z
LAST-MODIFIED:20250710T115321Z
UID:517-1754352000-1754438399@opeka.org.uk
SUMMARY:Music and Massage (Johnny & Elaine\, Elaine and Mandy)
DESCRIPTION:
URL:https://opeka.org.uk/event/music-and-massage-johnny-elaine-elaine-and-mandy-5
LOCATION:Prince & Princess of Wales Hospice\, Prince & Princess of Wales Hospice\, Glasgow\, G41 5BW\, United Kingdom
ATTACH;FMTTYPE=image/webp:https://opeka.org.uk/wp-content/uploads/2025/06/Music-and-Massage.webp
END:VEVENT
BEGIN:VEVENT
DTSTART;VALUE=DATE:20250801
DTEND;VALUE=DATE:20250802
DTSTAMP:20260420T021838
CREATED:20250613T153215Z
LAST-MODIFIED:20250710T114810Z
UID:543-1754006400-1754092799@opeka.org.uk
SUMMARY:Art and Video Gaming (Inna and Chris)
DESCRIPTION:
URL:https://opeka.org.uk/event/art-and-video-gaminginna-and-chris
LOCATION:Carswell Centre\, Carswell Centre\, Eaglesham\, G76 0AS\, United Kingdom
ATTACH;FMTTYPE=image/webp:https://opeka.org.uk/wp-content/uploads/2025/06/Art-and-Gaming.webp
END:VEVENT
BEGIN:VEVENT
DTSTART;VALUE=DATE:20250731
DTEND;VALUE=DATE:20250801
DTSTAMP:20260420T021838
CREATED:20250613T151237Z
LAST-MODIFIED:20250710T115049Z
UID:481-1753920000-1754006399@opeka.org.uk
SUMMARY:Music and Fun Movement (Johnny and Andrew)
DESCRIPTION:
URL:https://opeka.org.uk/event/music-and-fun-movement-johnny-and-andrew
LOCATION:Carswell Centre\, Carswell Centre\, Eaglesham\, G76 0AS\, United Kingdom
ATTACH;FMTTYPE=image/webp:https://opeka.org.uk/wp-content/uploads/2025/06/Music-and-Fun-Movement.webp
END:VEVENT
BEGIN:VEVENT
DTSTART;VALUE=DATE:20250729
DTEND;VALUE=DATE:20250730
DTSTAMP:20260420T021838
CREATED:20250613T152545Z
LAST-MODIFIED:20250710T115310Z
UID:515-1753747200-1753833599@opeka.org.uk
SUMMARY:Music and Massage (Johnny & Elaine\, Elaine and Mandy)
DESCRIPTION:
URL:https://opeka.org.uk/event/music-and-massage-johnny-elaine-elaine-and-mandy-4
LOCATION:Prince & Princess of Wales Hospice\, Prince & Princess of Wales Hospice\, Glasgow\, G41 5BW\, United Kingdom
ATTACH;FMTTYPE=image/webp:https://opeka.org.uk/wp-content/uploads/2025/06/Music-and-Massage.webp
END:VEVENT
BEGIN:VEVENT
DTSTART;VALUE=DATE:20250725
DTEND;VALUE=DATE:20250726
DTSTAMP:20260420T021838
CREATED:20250613T153154Z
LAST-MODIFIED:20250710T114801Z
UID:541-1753401600-1753487999@opeka.org.uk
SUMMARY:Art and Video Gaming (Inna and Chris)
DESCRIPTION:
URL:https://opeka.org.uk/event/art-and-video-gaming-inna-and-chris-2
LOCATION:Carswell Centre\, Carswell Centre\, Eaglesham\, G76 0AS\, United Kingdom
ATTACH;FMTTYPE=image/webp:https://opeka.org.uk/wp-content/uploads/2025/06/Art-and-Gaming.webp
END:VEVENT
BEGIN:VEVENT
DTSTART;VALUE=DATE:20250724
DTEND;VALUE=DATE:20250725
DTSTAMP:20260420T021838
CREATED:20250613T151213Z
LAST-MODIFIED:20250710T115127Z
UID:478-1753315200-1753401599@opeka.org.uk
SUMMARY:Music and Golf (Andrea and Golf in Society)
DESCRIPTION:
URL:https://opeka.org.uk/event/music-and-golf-andrea-and-golf-in-society
LOCATION:Carswell Centre\, Carswell Centre\, Eaglesham\, G76 0AS\, United Kingdom
ATTACH;FMTTYPE=image/webp:https://opeka.org.uk/wp-content/uploads/2025/06/Music-and-Golf.webp
END:VEVENT
BEGIN:VEVENT
DTSTART;VALUE=DATE:20250722
DTEND;VALUE=DATE:20250723
DTSTAMP:20260420T021838
CREATED:20250613T152528Z
LAST-MODIFIED:20250710T115255Z
UID:513-1753142400-1753228799@opeka.org.uk
SUMMARY:Music and Massage (Johnny & Elaine\, Elaine and Mandy)
DESCRIPTION:
URL:https://opeka.org.uk/event/music-and-massage-johnny-elaine-elaine-and-mandy-3
LOCATION:Prince & Princess of Wales Hospice\, Prince & Princess of Wales Hospice\, Glasgow\, G41 5BW\, United Kingdom
ATTACH;FMTTYPE=image/webp:https://opeka.org.uk/wp-content/uploads/2025/06/Music-and-Massage.webp
END:VEVENT
BEGIN:VEVENT
DTSTART;VALUE=DATE:20250718
DTEND;VALUE=DATE:20250719
DTSTAMP:20260420T021838
CREATED:20250613T153133Z
LAST-MODIFIED:20250710T114648Z
UID:539-1752796800-1752883199@opeka.org.uk
SUMMARY:Art and Baking (Inna and Lesley)
DESCRIPTION:
URL:https://opeka.org.uk/event/art-and-baking-inna-and-lesley
LOCATION:Carswell Centre\, Carswell Centre\, Eaglesham\, G76 0AS\, United Kingdom
ATTACH;FMTTYPE=image/webp:https://opeka.org.uk/wp-content/uploads/2025/06/Art-and-Baking.webp
END:VEVENT
BEGIN:VEVENT
DTSTART;VALUE=DATE:20250717
DTEND;VALUE=DATE:20250718
DTSTAMP:20260420T021838
CREATED:20250613T151046Z
LAST-MODIFIED:20250710T114936Z
UID:476-1752710400-1752796799@opeka.org.uk
SUMMARY:Cycling at Clyde Cycle Park
DESCRIPTION:
URL:https://opeka.org.uk/event/cycling-at-clyde-cycle-park
LOCATION:Carswell Centre\, Carswell Centre\, Eaglesham\, G76 0AS\, United Kingdom
ATTACH;FMTTYPE=image/webp:https://opeka.org.uk/wp-content/uploads/2025/06/Cycling.webp
END:VEVENT
BEGIN:VEVENT
DTSTART;VALUE=DATE:20250711
DTEND;VALUE=DATE:20250712
DTSTAMP:20260420T021838
CREATED:20250613T153110Z
LAST-MODIFIED:20250710T114554Z
UID:537-1752192000-1752278399@opeka.org.uk
SUMMARY:Art and Pool/Snooker 3:30pm Finish
DESCRIPTION:
URL:https://opeka.org.uk/event/art-and-pool-snooker-330pm-finish
LOCATION:Carswell Centre\, Carswell Centre\, Eaglesham\, G76 0AS\, United Kingdom
ATTACH;FMTTYPE=image/webp:https://opeka.org.uk/wp-content/uploads/2025/06/Art-and-Pool.webp
END:VEVENT
BEGIN:VEVENT
DTSTART;VALUE=DATE:20250710
DTEND;VALUE=DATE:20250711
DTSTAMP:20260420T021838
CREATED:20250613T151004Z
LAST-MODIFIED:20250710T114336Z
UID:474-1752105600-1752191999@opeka.org.uk
SUMMARY:Music and Baking (Alaine and Lesley)
DESCRIPTION:
URL:https://opeka.org.uk/event/music-and-baking-alaine-and-lesley
LOCATION:Carswell Centre\, Carswell Centre\, Eaglesham\, G76 0AS\, United Kingdom
CATEGORIES:Music and Baking
ATTACH;FMTTYPE=image/webp:https://opeka.org.uk/wp-content/uploads/2025/07/Music-and-Baking.webp
END:VEVENT
BEGIN:VEVENT
DTSTART;VALUE=DATE:20250708
DTEND;VALUE=DATE:20250709
DTSTAMP:20260420T021838
CREATED:20250613T152507Z
LAST-MODIFIED:20250710T115244Z
UID:511-1751932800-1752019199@opeka.org.uk
SUMMARY:Music and Massage (Johnny & Elaine\, Elaine and Mandy)
DESCRIPTION:
URL:https://opeka.org.uk/event/music-and-massage-johnny-elaine-elaine-and-mandy-2
LOCATION:Prince & Princess of Wales Hospice\, Prince & Princess of Wales Hospice\, Glasgow\, G41 5BW\, United Kingdom
ATTACH;FMTTYPE=image/webp:https://opeka.org.uk/wp-content/uploads/2025/06/Music-and-Massage.webp
END:VEVENT
BEGIN:VEVENT
DTSTART;VALUE=DATE:20250704
DTEND;VALUE=DATE:20250705
DTSTAMP:20260420T021838
CREATED:20250613T153048Z
LAST-MODIFIED:20250710T114750Z
UID:535-1751587200-1751673599@opeka.org.uk
SUMMARY:Art and Video Gaming (Inna and Chris)
DESCRIPTION:
URL:https://opeka.org.uk/event/art-and-video-gaming-inna-and-chris
LOCATION:Carswell Centre\, Carswell Centre\, Eaglesham\, G76 0AS\, United Kingdom
ATTACH;FMTTYPE=image/webp:https://opeka.org.uk/wp-content/uploads/2025/06/Art-and-Gaming.webp
END:VEVENT
BEGIN:VEVENT
DTSTART;VALUE=DATE:20250703
DTEND;VALUE=DATE:20250704
DTSTAMP:20260420T021838
CREATED:20250613T150931Z
LAST-MODIFIED:20250710T115528Z
UID:472-1751500800-1751587199@opeka.org.uk
SUMMARY:Music and Seated Yoga (Johnny and Alison)
DESCRIPTION:
URL:https://opeka.org.uk/event/music-and-seated-yoga-johnny-and-alison
LOCATION:Carswell Centre\, Carswell Centre\, Eaglesham\, G76 0AS\, United Kingdom
ATTACH;FMTTYPE=image/webp:https://opeka.org.uk/wp-content/uploads/2025/06/Music-and-Seated-Yoga.webp
END:VEVENT
BEGIN:VEVENT
DTSTART;VALUE=DATE:20250701
DTEND;VALUE=DATE:20250702
DTSTAMP:20260420T021838
CREATED:20250613T152454Z
LAST-MODIFIED:20250710T115234Z
UID:509-1751328000-1751414399@opeka.org.uk
SUMMARY:Music and Massage (Johnny & Elaine\, Elaine and Mandy)
DESCRIPTION:
URL:https://opeka.org.uk/event/music-and-massage-johnny-elaine-elaine-and-mandy
LOCATION:Prince & Princess of Wales Hospice\, Prince & Princess of Wales Hospice\, Glasgow\, G41 5BW\, United Kingdom
ATTACH;FMTTYPE=image/webp:https://opeka.org.uk/wp-content/uploads/2025/06/Music-and-Massage.webp
END:VEVENT
END:VCALENDAR