BEGIN:VCALENDAR
VERSION:2.0
PRODID:-//Opeka - ECPv6.15.16//NONSGML v1.0//EN
CALSCALE:GREGORIAN
METHOD:PUBLISH
X-WR-CALNAME:Opeka
X-ORIGINAL-URL:https://opeka.org.uk
X-WR-CALDESC:Events for Opeka
REFRESH-INTERVAL;VALUE=DURATION:PT1H
X-Robots-Tag:noindex
X-PUBLISHED-TTL:PT1H
BEGIN:VTIMEZONE
TZID:UTC
BEGIN:STANDARD
TZOFFSETFROM:+0000
TZOFFSETTO:+0000
TZNAME:UTC
DTSTART:20240101T000000
END:STANDARD
END:VTIMEZONE
BEGIN:VEVENT
DTSTART;VALUE=DATE:20251009
DTEND;VALUE=DATE:20251010
DTSTAMP:20260420T033802
CREATED:20250613T151635Z
LAST-MODIFIED:20250710T114454Z
UID:501-1759968000-1760054399@opeka.org.uk
SUMMARY:Music and Baking (Johnny and Lesley)
DESCRIPTION:
URL:https://opeka.org.uk/event/music-and-baking-johnny-and-lesley-2
LOCATION:Carswell Centre\, Carswell Centre\, Eaglesham\, G76 0AS\, United Kingdom
ATTACH;FMTTYPE=image/webp:https://opeka.org.uk/wp-content/uploads/2025/07/Music-and-Baking.webp
END:VEVENT
BEGIN:VEVENT
DTSTART;VALUE=DATE:20251007
DTEND;VALUE=DATE:20251008
DTSTAMP:20260420T033802
CREATED:20250907T163722Z
LAST-MODIFIED:20250907T164734Z
UID:1129-1759795200-1759881599@opeka.org.uk
SUMMARY:Music and Massage (Johnny & Elaine\, Elaine and Mandy)
DESCRIPTION:
URL:https://opeka.org.uk/event/music-and-massage-johnny-elaine-elaine-and-mandy-14
LOCATION:Prince & Princess of Wales Hospice\, Prince & Princess of Wales Hospice\, Glasgow\, G41 5BW\, United Kingdom
ATTACH;FMTTYPE=image/webp:https://opeka.org.uk/wp-content/uploads/2025/06/Music-and-Massage.webp
END:VEVENT
BEGIN:VEVENT
DTSTART;VALUE=DATE:20251003
DTEND;VALUE=DATE:20251004
DTSTAMP:20260420T033802
CREATED:20250907T165916Z
LAST-MODIFIED:20250907T165916Z
UID:1165-1759449600-1759535999@opeka.org.uk
SUMMARY:Art and Video Gaming(Inna and Chris)
DESCRIPTION:
URL:https://opeka.org.uk/event/art-and-video-gaminginna-and-chris-2
LOCATION:Carswell Centre\, Carswell Centre\, Eaglesham\, G76 0AS\, United Kingdom
ATTACH;FMTTYPE=image/webp:https://opeka.org.uk/wp-content/uploads/2025/06/Art-and-Gaming.webp
END:VEVENT
BEGIN:VEVENT
DTSTART;VALUE=DATE:20251002
DTEND;VALUE=DATE:20251003
DTSTAMP:20260420T033802
CREATED:20250613T151615Z
LAST-MODIFIED:20250710T115554Z
UID:499-1759363200-1759449599@opeka.org.uk
SUMMARY:Music and Seated Yoga (Johnny and Alison)
DESCRIPTION:
URL:https://opeka.org.uk/event/music-and-seated-yoga-johnny-and-alison-4
LOCATION:Carswell Centre\, Carswell Centre\, Eaglesham\, G76 0AS\, United Kingdom
ATTACH;FMTTYPE=image/webp:https://opeka.org.uk/wp-content/uploads/2025/06/Music-and-Seated-Yoga.webp
END:VEVENT
BEGIN:VEVENT
DTSTART;VALUE=DATE:20250930
DTEND;VALUE=DATE:20251001
DTSTAMP:20260420T033802
CREATED:20250613T152916Z
LAST-MODIFIED:20250710T115437Z
UID:533-1759190400-1759276799@opeka.org.uk
SUMMARY:Music and Massage (Johnny & Elaine\, Elaine and Mandy)
DESCRIPTION:
URL:https://opeka.org.uk/event/music-and-massage-johnny-elaine-elaine-and-mandy-13
LOCATION:Prince & Princess of Wales Hospice\, Prince & Princess of Wales Hospice\, Glasgow\, G41 5BW\, United Kingdom
ATTACH;FMTTYPE=image/webp:https://opeka.org.uk/wp-content/uploads/2025/06/Music-and-Massage.webp
END:VEVENT
BEGIN:VEVENT
DTSTART;VALUE=DATE:20250926
DTEND;VALUE=DATE:20250927
DTSTAMP:20260420T033802
CREATED:20250613T153504Z
LAST-MODIFIED:20250710T114831Z
UID:558-1758844800-1758931199@opeka.org.uk
SUMMARY:Art and Video Gaming (Inna and Chris)
DESCRIPTION:
URL:https://opeka.org.uk/event/art-and-video-gaming-inna-and-chris-5
LOCATION:Carswell Centre\, Carswell Centre\, Eaglesham\, G76 0AS\, United Kingdom
ATTACH;FMTTYPE=image/webp:https://opeka.org.uk/wp-content/uploads/2025/06/Art-and-Gaming.webp
END:VEVENT
BEGIN:VEVENT
DTSTART;VALUE=DATE:20250925
DTEND;VALUE=DATE:20250926
DTSTAMP:20260420T033802
CREATED:20250613T151543Z
LAST-MODIFIED:20250710T115145Z
UID:497-1758758400-1758844799@opeka.org.uk
SUMMARY:Music and Golf (Johnny and Golf in Society)
DESCRIPTION:
URL:https://opeka.org.uk/event/music-and-golf-johnny-and-golf-in-society
LOCATION:Carswell Centre\, Carswell Centre\, Eaglesham\, G76 0AS\, United Kingdom
ATTACH;FMTTYPE=image/webp:https://opeka.org.uk/wp-content/uploads/2025/06/Music-and-Golf.webp
END:VEVENT
BEGIN:VEVENT
DTSTART;VALUE=DATE:20250923
DTEND;VALUE=DATE:20250924
DTSTAMP:20260420T033802
CREATED:20250613T152900Z
LAST-MODIFIED:20250710T115428Z
UID:531-1758585600-1758671999@opeka.org.uk
SUMMARY:Music and Massage (Johnny & Elaine\, Elaine and Mandy)
DESCRIPTION:
URL:https://opeka.org.uk/event/music-and-massage-johnny-elaine-elaine-and-mandy-12
LOCATION:Prince & Princess of Wales Hospice\, Prince & Princess of Wales Hospice\, Glasgow\, G41 5BW\, United Kingdom
ATTACH;FMTTYPE=image/webp:https://opeka.org.uk/wp-content/uploads/2025/06/Music-and-Massage.webp
END:VEVENT
BEGIN:VEVENT
DTSTART;VALUE=DATE:20250919
DTEND;VALUE=DATE:20250920
DTSTAMP:20260420T033802
CREATED:20250613T153443Z
LAST-MODIFIED:20250710T114708Z
UID:556-1758240000-1758326399@opeka.org.uk
SUMMARY:Art and Baking (Inna and Lesley)
DESCRIPTION:
URL:https://opeka.org.uk/event/art-and-baking-inna-and-lesley-3
LOCATION:Carswell Centre\, Carswell Centre\, Eaglesham\, G76 0AS\, United Kingdom
ATTACH;FMTTYPE=image/webp:https://opeka.org.uk/wp-content/uploads/2025/06/Art-and-Baking.webp
END:VEVENT
BEGIN:VEVENT
DTSTART;VALUE=DATE:20250918
DTEND;VALUE=DATE:20250919
DTSTAMP:20260420T033802
CREATED:20250613T151518Z
LAST-MODIFIED:20250710T114959Z
UID:495-1758153600-1758239999@opeka.org.uk
SUMMARY:Cycling at Glasgow Green
DESCRIPTION:
URL:https://opeka.org.uk/event/cycling-at-glasgow-green-2
LOCATION:Carswell Centre\, Carswell Centre\, Eaglesham\, G76 0AS\, United Kingdom
ATTACH;FMTTYPE=image/webp:https://opeka.org.uk/wp-content/uploads/2025/06/Cycling.webp
END:VEVENT
BEGIN:VEVENT
DTSTART;VALUE=DATE:20250916
DTEND;VALUE=DATE:20250917
DTSTAMP:20260420T033802
CREATED:20250613T152830Z
LAST-MODIFIED:20250710T115420Z
UID:529-1757980800-1758067199@opeka.org.uk
SUMMARY:Music and Massage (Johnny & Elaine\, Elaine and Mandy)
DESCRIPTION:
URL:https://opeka.org.uk/event/music-and-massage-johnny-elaine-elaine-and-mandy-11
LOCATION:Prince & Princess of Wales Hospice\, Prince & Princess of Wales Hospice\, Glasgow\, G41 5BW\, United Kingdom
ATTACH;FMTTYPE=image/webp:https://opeka.org.uk/wp-content/uploads/2025/06/Music-and-Massage.webp
END:VEVENT
BEGIN:VEVENT
DTSTART;VALUE=DATE:20250912
DTEND;VALUE=DATE:20250913
DTSTAMP:20260420T033802
CREATED:20250613T153419Z
LAST-MODIFIED:20250710T114611Z
UID:554-1757635200-1757721599@opeka.org.uk
SUMMARY:Art and Pool/Snooker 3:30pm Finish
DESCRIPTION:
URL:https://opeka.org.uk/event/art-and-pool-snooker-330pm-finish-3
LOCATION:Carswell Centre\, Carswell Centre\, Eaglesham\, G76 0AS\, United Kingdom
ATTACH;FMTTYPE=image/webp:https://opeka.org.uk/wp-content/uploads/2025/06/Art-and-Pool.webp
END:VEVENT
BEGIN:VEVENT
DTSTART;VALUE=DATE:20250911
DTEND;VALUE=DATE:20250912
DTSTAMP:20260420T033802
CREATED:20250613T151452Z
LAST-MODIFIED:20250710T114406Z
UID:493-1757548800-1757635199@opeka.org.uk
SUMMARY:Music and Baking (Johnny and Lesley)
DESCRIPTION:
URL:https://opeka.org.uk/event/music-and-baking-johnny-and-lesley
LOCATION:Carswell Centre\, Carswell Centre\, Eaglesham\, G76 0AS\, United Kingdom
ATTACH;FMTTYPE=image/webp:https://opeka.org.uk/wp-content/uploads/2025/07/Music-and-Baking.webp
END:VEVENT
BEGIN:VEVENT
DTSTART;VALUE=DATE:20250909
DTEND;VALUE=DATE:20250910
DTSTAMP:20260420T033802
CREATED:20250907T164612Z
LAST-MODIFIED:20250907T164943Z
UID:1147-1757376000-1757462399@opeka.org.uk
SUMMARY:Music and Massage (Johnny & Elaine\, Elaine and Mandy)
DESCRIPTION:
URL:https://opeka.org.uk/event/music-and-massage-johnny-elaine-elaine-and-mandy-23
LOCATION:Prince & Princess of Wales Hospice\, Prince & Princess of Wales Hospice\, Glasgow\, G41 5BW\, United Kingdom
ATTACH;FMTTYPE=image/webp:https://opeka.org.uk/wp-content/uploads/2025/06/Music-and-Massage.webp
END:VEVENT
BEGIN:VEVENT
DTSTART;VALUE=DATE:20250905
DTEND;VALUE=DATE:20250906
DTSTAMP:20260420T033802
CREATED:20250613T153353Z
LAST-MODIFIED:20250710T114824Z
UID:552-1757030400-1757116799@opeka.org.uk
SUMMARY:Art and Video Gaming (Inna and Chris)
DESCRIPTION:
URL:https://opeka.org.uk/event/art-and-video-gaming-inna-and-chris-4
LOCATION:Carswell Centre\, Carswell Centre\, Eaglesham\, G76 0AS\, United Kingdom
ATTACH;FMTTYPE=image/webp:https://opeka.org.uk/wp-content/uploads/2025/06/Art-and-Gaming.webp
END:VEVENT
BEGIN:VEVENT
DTSTART;VALUE=DATE:20250904
DTEND;VALUE=DATE:20250905
DTSTAMP:20260420T033802
CREATED:20250613T151422Z
LAST-MODIFIED:20250710T115548Z
UID:491-1756944000-1757030399@opeka.org.uk
SUMMARY:Music and Seated Yoga (Johnny and Alison)
DESCRIPTION:
URL:https://opeka.org.uk/event/music-and-seated-yoga-johnny-and-alison-3
LOCATION:Carswell Centre\, Carswell Centre\, Eaglesham\, G76 0AS\, United Kingdom
ATTACH;FMTTYPE=image/webp:https://opeka.org.uk/wp-content/uploads/2025/06/Music-and-Seated-Yoga.webp
END:VEVENT
BEGIN:VEVENT
DTSTART;VALUE=DATE:20250902
DTEND;VALUE=DATE:20250903
DTSTAMP:20260420T033802
CREATED:20250613T152752Z
LAST-MODIFIED:20250710T115403Z
UID:525-1756771200-1756857599@opeka.org.uk
SUMMARY:Music and Massage (Johnny & Elaine\, Elaine and Mandy)
DESCRIPTION:
URL:https://opeka.org.uk/event/music-and-massage-johnny-elaine-elaine-and-mandy-9
LOCATION:Prince & Princess of Wales Hospice\, Prince & Princess of Wales Hospice\, Glasgow\, G41 5BW\, United Kingdom
ATTACH;FMTTYPE=image/webp:https://opeka.org.uk/wp-content/uploads/2025/06/Music-and-Massage.webp
END:VEVENT
BEGIN:VEVENT
DTSTART;VALUE=DATE:20250828
DTEND;VALUE=DATE:20250829
DTSTAMP:20260420T033802
CREATED:20250613T151352Z
LAST-MODIFIED:20250710T114426Z
UID:489-1756339200-1756425599@opeka.org.uk
SUMMARY:Music and Baking
DESCRIPTION:
URL:https://opeka.org.uk/event/music-and-baking
LOCATION:Carswell Centre\, Carswell Centre\, Eaglesham\, G76 0AS\, United Kingdom
ATTACH;FMTTYPE=image/webp:https://opeka.org.uk/wp-content/uploads/2025/07/Music-and-Baking.webp
END:VEVENT
BEGIN:VEVENT
DTSTART;VALUE=DATE:20250826
DTEND;VALUE=DATE:20250827
DTSTAMP:20260420T033802
CREATED:20250613T152736Z
LAST-MODIFIED:20250710T115350Z
UID:523-1756166400-1756252799@opeka.org.uk
SUMMARY:Music and Massage (Johnny & Elaine\, Elaine and Mandy)
DESCRIPTION:
URL:https://opeka.org.uk/event/music-and-massage-johnny-elaine-elaine-and-mandy-8
LOCATION:Prince & Princess of Wales Hospice\, Prince & Princess of Wales Hospice\, Glasgow\, G41 5BW\, United Kingdom
ATTACH;FMTTYPE=image/webp:https://opeka.org.uk/wp-content/uploads/2025/06/Music-and-Massage.webp
END:VEVENT
BEGIN:VEVENT
DTSTART;VALUE=DATE:20250822
DTEND;VALUE=DATE:20250823
DTSTAMP:20260420T033802
CREATED:20250613T153327Z
LAST-MODIFIED:20250710T114817Z
UID:550-1755820800-1755907199@opeka.org.uk
SUMMARY:Art and Video Gaming (Inna and Chris)
DESCRIPTION:
URL:https://opeka.org.uk/event/art-and-video-gaming-inna-and-chris-3
LOCATION:Carswell Centre\, Carswell Centre\, Eaglesham\, G76 0AS\, United Kingdom
ATTACH;FMTTYPE=image/webp:https://opeka.org.uk/wp-content/uploads/2025/06/Art-and-Gaming.webp
END:VEVENT
BEGIN:VEVENT
DTSTART;VALUE=DATE:20250822
DTEND;VALUE=DATE:20250823
DTSTAMP:20260420T033802
CREATED:20250613T153305Z
LAST-MODIFIED:20250710T114658Z
UID:548-1755820800-1755907199@opeka.org.uk
SUMMARY:Art and Baking (Inna and Lesley)
DESCRIPTION:
URL:https://opeka.org.uk/event/art-and-baking-inna-and-lesley-2
LOCATION:Carswell Centre\, Carswell Centre\, Eaglesham\, G76 0AS\, United Kingdom
ATTACH;FMTTYPE=image/webp:https://opeka.org.uk/wp-content/uploads/2025/06/Art-and-Baking.webp
END:VEVENT
BEGIN:VEVENT
DTSTART;VALUE=DATE:20250821
DTEND;VALUE=DATE:20250822
DTSTAMP:20260420T033802
CREATED:20250613T151330Z
LAST-MODIFIED:20250710T114952Z
UID:487-1755734400-1755820799@opeka.org.uk
SUMMARY:Cycling at Glasgow Green
DESCRIPTION:
URL:https://opeka.org.uk/event/cycling-at-glasgow-green
LOCATION:Carswell Centre\, Carswell Centre\, Eaglesham\, G76 0AS\, United Kingdom
ATTACH;FMTTYPE=image/webp:https://opeka.org.uk/wp-content/uploads/2025/06/Cycling.webp
END:VEVENT
BEGIN:VEVENT
DTSTART;VALUE=DATE:20250819
DTEND;VALUE=DATE:20250820
DTSTAMP:20260420T033802
CREATED:20250613T152718Z
LAST-MODIFIED:20250710T115339Z
UID:521-1755561600-1755647999@opeka.org.uk
SUMMARY:Music and Massage (Johnny & Elaine\, Elaine and Mandy)
DESCRIPTION:
URL:https://opeka.org.uk/event/music-and-massage-johnny-elaine-elaine-and-mandy-7
LOCATION:Prince & Princess of Wales Hospice\, Prince & Princess of Wales Hospice\, Glasgow\, G41 5BW\, United Kingdom
ATTACH;FMTTYPE=image/webp:https://opeka.org.uk/wp-content/uploads/2025/06/Music-and-Massage.webp
END:VEVENT
BEGIN:VEVENT
DTSTART;VALUE=DATE:20250814
DTEND;VALUE=DATE:20250815
DTSTAMP:20260420T033802
CREATED:20250613T151314Z
LAST-MODIFIED:20250710T115135Z
UID:485-1755129600-1755215999@opeka.org.uk
SUMMARY:Music and Golf
DESCRIPTION:
URL:https://opeka.org.uk/event/music-and-golf
LOCATION:Carswell Centre\, Carswell Centre\, Eaglesham\, G76 0AS\, United Kingdom
ATTACH;FMTTYPE=image/webp:https://opeka.org.uk/wp-content/uploads/2025/06/Music-and-Golf.webp
END:VEVENT
BEGIN:VEVENT
DTSTART;VALUE=DATE:20250812
DTEND;VALUE=DATE:20250813
DTSTAMP:20260420T033802
CREATED:20250613T152632Z
LAST-MODIFIED:20250710T115330Z
UID:519-1754956800-1755043199@opeka.org.uk
SUMMARY:Music and Massage (Johnny & Elaine\, Elaine and Mandy)
DESCRIPTION:
URL:https://opeka.org.uk/event/music-and-massage-johnny-elaine-elaine-and-mandy-6
LOCATION:Prince & Princess of Wales Hospice\, Prince & Princess of Wales Hospice\, Glasgow\, G41 5BW\, United Kingdom
ATTACH;FMTTYPE=image/webp:https://opeka.org.uk/wp-content/uploads/2025/06/Music-and-Massage.webp
END:VEVENT
BEGIN:VEVENT
DTSTART;VALUE=DATE:20250808
DTEND;VALUE=DATE:20250809
DTSTAMP:20260420T033802
CREATED:20250613T153240Z
LAST-MODIFIED:20250710T114603Z
UID:546-1754611200-1754697599@opeka.org.uk
SUMMARY:Art and Pool/Snooker 3:30pm Finish
DESCRIPTION:
URL:https://opeka.org.uk/event/art-and-pool-snooker-330pm-finish-2
LOCATION:Carswell Centre\, Carswell Centre\, Eaglesham\, G76 0AS\, United Kingdom
ATTACH;FMTTYPE=image/webp:https://opeka.org.uk/wp-content/uploads/2025/06/Art-and-Pool.webp
END:VEVENT
BEGIN:VEVENT
DTSTART;VALUE=DATE:20250807
DTEND;VALUE=DATE:20250808
DTSTAMP:20260420T033802
CREATED:20250613T151256Z
LAST-MODIFIED:20250710T115540Z
UID:483-1754524800-1754611199@opeka.org.uk
SUMMARY:Music and Seated Yoga (Johnny and Alison)
DESCRIPTION:
URL:https://opeka.org.uk/event/music-and-seated-yoga-johnny-and-alison-2
LOCATION:Carswell Centre\, Carswell Centre\, Eaglesham\, G76 0AS\, United Kingdom
ATTACH;FMTTYPE=image/webp:https://opeka.org.uk/wp-content/uploads/2025/06/Music-and-Seated-Yoga.webp
END:VEVENT
BEGIN:VEVENT
DTSTART;VALUE=DATE:20250805
DTEND;VALUE=DATE:20250806
DTSTAMP:20260420T033802
CREATED:20250613T152608Z
LAST-MODIFIED:20250710T115321Z
UID:517-1754352000-1754438399@opeka.org.uk
SUMMARY:Music and Massage (Johnny & Elaine\, Elaine and Mandy)
DESCRIPTION:
URL:https://opeka.org.uk/event/music-and-massage-johnny-elaine-elaine-and-mandy-5
LOCATION:Prince & Princess of Wales Hospice\, Prince & Princess of Wales Hospice\, Glasgow\, G41 5BW\, United Kingdom
ATTACH;FMTTYPE=image/webp:https://opeka.org.uk/wp-content/uploads/2025/06/Music-and-Massage.webp
END:VEVENT
BEGIN:VEVENT
DTSTART;VALUE=DATE:20250801
DTEND;VALUE=DATE:20250802
DTSTAMP:20260420T033802
CREATED:20250613T153215Z
LAST-MODIFIED:20250710T114810Z
UID:543-1754006400-1754092799@opeka.org.uk
SUMMARY:Art and Video Gaming (Inna and Chris)
DESCRIPTION:
URL:https://opeka.org.uk/event/art-and-video-gaminginna-and-chris
LOCATION:Carswell Centre\, Carswell Centre\, Eaglesham\, G76 0AS\, United Kingdom
ATTACH;FMTTYPE=image/webp:https://opeka.org.uk/wp-content/uploads/2025/06/Art-and-Gaming.webp
END:VEVENT
BEGIN:VEVENT
DTSTART;VALUE=DATE:20250731
DTEND;VALUE=DATE:20250801
DTSTAMP:20260420T033802
CREATED:20250613T151237Z
LAST-MODIFIED:20250710T115049Z
UID:481-1753920000-1754006399@opeka.org.uk
SUMMARY:Music and Fun Movement (Johnny and Andrew)
DESCRIPTION:
URL:https://opeka.org.uk/event/music-and-fun-movement-johnny-and-andrew
LOCATION:Carswell Centre\, Carswell Centre\, Eaglesham\, G76 0AS\, United Kingdom
ATTACH;FMTTYPE=image/webp:https://opeka.org.uk/wp-content/uploads/2025/06/Music-and-Fun-Movement.webp
END:VEVENT
END:VCALENDAR