BEGIN:VCALENDAR
VERSION:2.0
PRODID:-//Opeka - ECPv6.15.16//NONSGML v1.0//EN
CALSCALE:GREGORIAN
METHOD:PUBLISH
X-WR-CALNAME:Opeka
X-ORIGINAL-URL:https://opeka.org.uk
X-WR-CALDESC:Events for Opeka
REFRESH-INTERVAL;VALUE=DURATION:PT1H
X-Robots-Tag:noindex
X-PUBLISHED-TTL:PT1H
BEGIN:VTIMEZONE
TZID:UTC
BEGIN:STANDARD
TZOFFSETFROM:+0000
TZOFFSETTO:+0000
TZNAME:UTC
DTSTART:20240101T000000
END:STANDARD
END:VTIMEZONE
BEGIN:VEVENT
DTSTART;VALUE=DATE:20260120
DTEND;VALUE=DATE:20260121
DTSTAMP:20260419T214111
CREATED:20251229T101158Z
LAST-MODIFIED:20251229T101158Z
UID:1236-1768867200-1768953599@opeka.org.uk
SUMMARY:Music and Massage (Johnny & Elaine\, Elaine and Mandy)
DESCRIPTION:
URL:https://opeka.org.uk/event/music-and-massage-johnny-elaine-elaine-and-mandy-26
LOCATION:Prince & Princess of Wales Hospice\, Prince & Princess of Wales Hospice\, Glasgow\, G41 5BW\, United Kingdom
ATTACH;FMTTYPE=image/webp:https://opeka.org.uk/wp-content/uploads/2025/06/Music-and-Massage.webp
END:VEVENT
BEGIN:VEVENT
DTSTART;VALUE=DATE:20260116
DTEND;VALUE=DATE:20260117
DTSTAMP:20260419T214111
CREATED:20251229T102510Z
LAST-MODIFIED:20251229T102510Z
UID:1286-1768521600-1768607999@opeka.org.uk
SUMMARY:Art and Pool/Snooker 3:30pm Finish
DESCRIPTION:
URL:https://opeka.org.uk/event/art-and-pool-snooker-330pm-finish-7
LOCATION:Carswell Centre\, Carswell Centre\, Eaglesham\, G76 0AS\, United Kingdom
ATTACH;FMTTYPE=image/webp:https://opeka.org.uk/wp-content/uploads/2025/06/Art-and-Pool.webp
END:VEVENT
BEGIN:VEVENT
DTSTART;VALUE=DATE:20260115
DTEND;VALUE=DATE:20260116
DTSTAMP:20260419T214111
CREATED:20251229T104109Z
LAST-MODIFIED:20251229T104109Z
UID:1337-1768435200-1768521599@opeka.org.uk
SUMMARY:Music and Baking (Johnny and Lesley)
DESCRIPTION:
URL:https://opeka.org.uk/event/music-and-baking-johnny-and-lesley-6
LOCATION:Carswell Centre\, Carswell Centre\, Eaglesham\, G76 0AS\, United Kingdom
ATTACH;FMTTYPE=image/webp:https://opeka.org.uk/wp-content/uploads/2025/07/Music-and-Baking.webp
END:VEVENT
BEGIN:VEVENT
DTSTART;VALUE=DATE:20260113
DTEND;VALUE=DATE:20260114
DTSTAMP:20260419T214111
CREATED:20251229T101114Z
LAST-MODIFIED:20251229T101114Z
UID:1234-1768262400-1768348799@opeka.org.uk
SUMMARY:Music and Massage (Johnny & Elaine\, Elaine and Mandy)
DESCRIPTION:
URL:https://opeka.org.uk/event/music-and-massage-johnny-elaine-elaine-and-mandy-25
LOCATION:Prince & Princess of Wales Hospice\, Prince & Princess of Wales Hospice\, Glasgow\, G41 5BW\, United Kingdom
ATTACH;FMTTYPE=image/webp:https://opeka.org.uk/wp-content/uploads/2025/06/Music-and-Massage.webp
END:VEVENT
BEGIN:VEVENT
DTSTART;VALUE=DATE:20260109
DTEND;VALUE=DATE:20260110
DTSTAMP:20260419T214111
CREATED:20251229T102418Z
LAST-MODIFIED:20251229T102418Z
UID:1284-1767916800-1768003199@opeka.org.uk
SUMMARY:Art and Video Gaming (Inna and Chris)
DESCRIPTION:
URL:https://opeka.org.uk/event/art-and-video-gaming-inna-and-chris-9
LOCATION:Carswell Centre\, Carswell Centre\, Eaglesham\, G76 0AS\, United Kingdom
ATTACH;FMTTYPE=image/webp:https://opeka.org.uk/wp-content/uploads/2025/06/Art-and-Gaming.webp
END:VEVENT
BEGIN:VEVENT
DTSTART;VALUE=DATE:20260108
DTEND;VALUE=DATE:20260109
DTSTAMP:20260419T214111
CREATED:20251229T104042Z
LAST-MODIFIED:20251229T104042Z
UID:1335-1767830400-1767916799@opeka.org.uk
SUMMARY:Music and Seated Yoga
DESCRIPTION:
URL:https://opeka.org.uk/event/music-and-seated-yoga
LOCATION:Carswell Centre\, Carswell Centre\, Eaglesham\, G76 0AS\, United Kingdom
ATTACH;FMTTYPE=image/webp:https://opeka.org.uk/wp-content/uploads/2025/06/Music-and-Seated-Yoga.webp
END:VEVENT
BEGIN:VEVENT
DTSTART;VALUE=DATE:20251216
DTEND;VALUE=DATE:20251217
DTSTAMP:20260419T214111
CREATED:20250907T164637Z
LAST-MODIFIED:20250907T164637Z
UID:1149-1765843200-1765929599@opeka.org.uk
SUMMARY:Music and Massage (Johnny & Elaine\, Elaine and Mandy)
DESCRIPTION:
URL:https://opeka.org.uk/event/music-and-massage-johnny-elaine-elaine-and-mandy-24
LOCATION:Prince & Princess of Wales Hospice\, Prince & Princess of Wales Hospice\, Glasgow\, G41 5BW\, United Kingdom
ATTACH;FMTTYPE=image/webp:https://opeka.org.uk/wp-content/uploads/2025/06/Music-and-Massage.webp
END:VEVENT
BEGIN:VEVENT
DTSTART;VALUE=DATE:20251212
DTEND;VALUE=DATE:20251213
DTSTAMP:20260419T214111
CREATED:20250907T170414Z
LAST-MODIFIED:20250907T170414Z
UID:1183-1765497600-1765583999@opeka.org.uk
SUMMARY:Art and Pool/Snooker 3:30pm Finish
DESCRIPTION:
URL:https://opeka.org.uk/event/art-and-pool-snooker-330pm-finish-6
LOCATION:Carswell Centre\, Carswell Centre\, Eaglesham\, G76 0AS\, United Kingdom
ATTACH;FMTTYPE=image/webp:https://opeka.org.uk/wp-content/uploads/2025/06/Art-and-Pool.webp
END:VEVENT
BEGIN:VEVENT
DTSTART;VALUE=DATE:20251211
DTEND;VALUE=DATE:20251212
DTSTAMP:20260419T214111
CREATED:20251229T104018Z
LAST-MODIFIED:20251229T104018Z
UID:1333-1765411200-1765497599@opeka.org.uk
SUMMARY:Music and Baking (Johnny and Lesley)
DESCRIPTION:
URL:https://opeka.org.uk/event/music-and-baking-johnny-and-lesley-5
LOCATION:Carswell Centre\, Carswell Centre\, Eaglesham\, G76 0AS\, United Kingdom
ATTACH;FMTTYPE=image/webp:https://opeka.org.uk/wp-content/uploads/2025/07/Music-and-Baking.webp
END:VEVENT
BEGIN:VEVENT
DTSTART;VALUE=DATE:20251211
DTEND;VALUE=DATE:20251212
DTSTAMP:20260419T214111
CREATED:20250907T165559Z
LAST-MODIFIED:20250907T165559Z
UID:1161-1765411200-1765497599@opeka.org.uk
SUMMARY:Music and Baking (Johnny and Lesley)
DESCRIPTION:
URL:https://opeka.org.uk/event/music-and-baking-johnny-and-lesley-4
LOCATION:Carswell Centre\, Carswell Centre\, Eaglesham\, G76 0AS\, United Kingdom
ATTACH;FMTTYPE=image/webp:https://opeka.org.uk/wp-content/uploads/2025/07/Music-and-Baking.webp
END:VEVENT
BEGIN:VEVENT
DTSTART;VALUE=DATE:20251209
DTEND;VALUE=DATE:20251210
DTSTAMP:20260419T214111
CREATED:20250907T165811Z
LAST-MODIFIED:20250907T165811Z
UID:1163-1765238400-1765324799@opeka.org.uk
SUMMARY:Music and Massage (Johnny & Elaine\, Elaine and Mandy)
DESCRIPTION:
URL:https://opeka.org.uk/event/music-and-massage-johnny-elaine-elaine-and-mandy-10
LOCATION:Prince & Princess of Wales Hospice\, Prince & Princess of Wales Hospice\, Glasgow\, G41 5BW\, United Kingdom
ATTACH;FMTTYPE=image/webp:https://opeka.org.uk/wp-content/uploads/2025/06/Music-and-Massage.webp
END:VEVENT
BEGIN:VEVENT
DTSTART;VALUE=DATE:20251205
DTEND;VALUE=DATE:20251206
DTSTAMP:20260419T214111
CREATED:20250907T170348Z
LAST-MODIFIED:20250907T170348Z
UID:1181-1764892800-1764979199@opeka.org.uk
SUMMARY:Art and Video Gaming (Inna and Chris)
DESCRIPTION:
URL:https://opeka.org.uk/event/art-and-video-gaming-inna-and-chris-8
LOCATION:Carswell Centre\, Carswell Centre\, Eaglesham\, G76 0AS\, United Kingdom
ATTACH;FMTTYPE=image/webp:https://opeka.org.uk/wp-content/uploads/2025/06/Art-and-Gaming.webp
END:VEVENT
BEGIN:VEVENT
DTSTART;VALUE=DATE:20251204
DTEND;VALUE=DATE:20251205
DTSTAMP:20260419T214111
CREATED:20251229T103956Z
LAST-MODIFIED:20251229T103956Z
UID:1331-1764806400-1764892799@opeka.org.uk
SUMMARY:Music and Seated Yoga (Johnny and Alison)
DESCRIPTION:
URL:https://opeka.org.uk/event/music-and-seated-yoga-johnny-and-alison-7
LOCATION:Carswell Centre\, Carswell Centre\, Eaglesham\, G76 0AS\, United Kingdom
ATTACH;FMTTYPE=image/webp:https://opeka.org.uk/wp-content/uploads/2025/06/Music-and-Seated-Yoga.webp
END:VEVENT
BEGIN:VEVENT
DTSTART;VALUE=DATE:20251204
DTEND;VALUE=DATE:20251205
DTSTAMP:20260419T214111
CREATED:20250907T165530Z
LAST-MODIFIED:20250907T165530Z
UID:1159-1764806400-1764892799@opeka.org.uk
SUMMARY:Music and Seated Yoga (Johnny and Alison)
DESCRIPTION:
URL:https://opeka.org.uk/event/music-and-seated-yoga-johnny-and-alison-6
LOCATION:Carswell Centre\, Carswell Centre\, Eaglesham\, G76 0AS\, United Kingdom
ATTACH;FMTTYPE=image/webp:https://opeka.org.uk/wp-content/uploads/2025/06/Music-and-Seated-Yoga.webp
END:VEVENT
BEGIN:VEVENT
DTSTART;VALUE=DATE:20251202
DTEND;VALUE=DATE:20251203
DTSTAMP:20260419T214111
CREATED:20250907T164552Z
LAST-MODIFIED:20250907T164552Z
UID:1145-1764633600-1764719999@opeka.org.uk
SUMMARY:Music and Massage (Johnny & Elaine\, Elaine and Mandy)
DESCRIPTION:
URL:https://opeka.org.uk/event/music-and-massage-johnny-elaine-elaine-and-mandy-22
LOCATION:Prince & Princess of Wales Hospice\, Prince & Princess of Wales Hospice\, Glasgow\, G41 5BW\, United Kingdom
ATTACH;FMTTYPE=image/webp:https://opeka.org.uk/wp-content/uploads/2025/06/Music-and-Massage.webp
END:VEVENT
BEGIN:VEVENT
DTSTART;VALUE=DATE:20251128
DTEND;VALUE=DATE:20251129
DTSTAMP:20260419T214111
CREATED:20250907T170257Z
LAST-MODIFIED:20250907T170257Z
UID:1179-1764288000-1764374399@opeka.org.uk
SUMMARY:Art and Video Gaming (Inna and Chris)
DESCRIPTION:
URL:https://opeka.org.uk/event/art-and-video-gaming-inna-and-chris-7
LOCATION:Carswell Centre\, Carswell Centre\, Eaglesham\, G76 0AS\, United Kingdom
ATTACH;FMTTYPE=image/webp:https://opeka.org.uk/wp-content/uploads/2025/06/Art-and-Gaming.webp
END:VEVENT
BEGIN:VEVENT
DTSTART;VALUE=DATE:20251127
DTEND;VALUE=DATE:20251128
DTSTAMP:20260419T214111
CREATED:20250907T165503Z
LAST-MODIFIED:20250907T165503Z
UID:1157-1764201600-1764287999@opeka.org.uk
SUMMARY:Music and Golf
DESCRIPTION:
URL:https://opeka.org.uk/event/music-and-golf-3
LOCATION:Carswell Centre\, Carswell Centre\, Eaglesham\, G76 0AS\, United Kingdom
ATTACH;FMTTYPE=image/webp:https://opeka.org.uk/wp-content/uploads/2025/06/Music-and-Golf.webp
END:VEVENT
BEGIN:VEVENT
DTSTART;VALUE=DATE:20251125
DTEND;VALUE=DATE:20251126
DTSTAMP:20260419T214111
CREATED:20250907T164521Z
LAST-MODIFIED:20250907T164521Z
UID:1143-1764028800-1764115199@opeka.org.uk
SUMMARY:Music and Massage (Johnny & Elaine\, Elaine and Mandy)
DESCRIPTION:
URL:https://opeka.org.uk/event/music-and-massage-johnny-elaine-elaine-and-mandy-21
LOCATION:Prince & Princess of Wales Hospice\, Prince & Princess of Wales Hospice\, Glasgow\, G41 5BW\, United Kingdom
ATTACH;FMTTYPE=image/webp:https://opeka.org.uk/wp-content/uploads/2025/06/Music-and-Massage.webp
END:VEVENT
BEGIN:VEVENT
DTSTART;VALUE=DATE:20251121
DTEND;VALUE=DATE:20251122
DTSTAMP:20260419T214111
CREATED:20250907T170223Z
LAST-MODIFIED:20250907T170223Z
UID:1177-1763683200-1763769599@opeka.org.uk
SUMMARY:Art and Baking (Inna and Lesley)
DESCRIPTION:
URL:https://opeka.org.uk/event/art-and-baking-inna-and-lesley-5
LOCATION:Carswell Centre\, Carswell Centre\, Eaglesham\, G76 0AS\, United Kingdom
ATTACH;FMTTYPE=image/webp:https://opeka.org.uk/wp-content/uploads/2025/06/Art-and-Baking.webp
END:VEVENT
BEGIN:VEVENT
DTSTART;VALUE=DATE:20251120
DTEND;VALUE=DATE:20251121
DTSTAMP:20260419T214111
CREATED:20250907T165434Z
LAST-MODIFIED:20250907T165434Z
UID:1155-1763596800-1763683199@opeka.org.uk
SUMMARY:Cycling at Glasgow Green
DESCRIPTION:
URL:https://opeka.org.uk/event/cycling-at-glasgow-green-4
ATTACH;FMTTYPE=image/webp:https://opeka.org.uk/wp-content/uploads/2025/06/Cycling.webp
END:VEVENT
BEGIN:VEVENT
DTSTART;VALUE=DATE:20251118
DTEND;VALUE=DATE:20251119
DTSTAMP:20260419T214111
CREATED:20250907T164440Z
LAST-MODIFIED:20250907T164501Z
UID:1141-1763424000-1763510399@opeka.org.uk
SUMMARY:Music and Massage (Johnny & Elaine\, Elaine and Mandy)
DESCRIPTION:
URL:https://opeka.org.uk/event/music-and-massage-johnny-elaine-elaine-and-mandy-20
LOCATION:Prince & Princess of Wales Hospice\, Prince & Princess of Wales Hospice\, Glasgow\, G41 5BW\, United Kingdom
ATTACH;FMTTYPE=image/webp:https://opeka.org.uk/wp-content/uploads/2025/06/Music-and-Massage.webp
END:VEVENT
BEGIN:VEVENT
DTSTART;VALUE=DATE:20251114
DTEND;VALUE=DATE:20251115
DTSTAMP:20260419T214111
CREATED:20250907T170156Z
LAST-MODIFIED:20250907T170156Z
UID:1175-1763078400-1763164799@opeka.org.uk
SUMMARY:Art and Pool/Snooker 3:30pm Finish
DESCRIPTION:
URL:https://opeka.org.uk/event/art-and-pool-snooker-330pm-finish-5
LOCATION:Carswell Centre\, Carswell Centre\, Eaglesham\, G76 0AS\, United Kingdom
ATTACH;FMTTYPE=image/webp:https://opeka.org.uk/wp-content/uploads/2025/06/Art-and-Pool.webp
END:VEVENT
BEGIN:VEVENT
DTSTART;VALUE=DATE:20251113
DTEND;VALUE=DATE:20251114
DTSTAMP:20260419T214111
CREATED:20250907T165404Z
LAST-MODIFIED:20250907T165404Z
UID:1153-1762992000-1763078399@opeka.org.uk
SUMMARY:Music and Baking (Johnny and Lesley)
DESCRIPTION:
URL:https://opeka.org.uk/event/music-and-baking-johnny-and-lesley-3
LOCATION:Carswell Centre\, Carswell Centre\, Eaglesham\, G76 0AS\, United Kingdom
ATTACH;FMTTYPE=image/webp:https://opeka.org.uk/wp-content/uploads/2025/07/Music-and-Baking.webp
END:VEVENT
BEGIN:VEVENT
DTSTART;VALUE=DATE:20251111
DTEND;VALUE=DATE:20251112
DTSTAMP:20260419T214111
CREATED:20250907T164413Z
LAST-MODIFIED:20250907T165716Z
UID:1139-1762819200-1762905599@opeka.org.uk
SUMMARY:Music and Massage (Johnny & Elaine\, Elaine and Mandy)
DESCRIPTION:
URL:https://opeka.org.uk/event/music-and-massage-johnny-elaine-elaine-and-mandy-19
LOCATION:Prince & Princess of Wales Hospice\, Prince & Princess of Wales Hospice\, Glasgow\, G41 5BW\, United Kingdom
ATTACH;FMTTYPE=image/webp:https://opeka.org.uk/wp-content/uploads/2025/06/Music-and-Massage.webp
END:VEVENT
BEGIN:VEVENT
DTSTART;VALUE=DATE:20251107
DTEND;VALUE=DATE:20251108
DTSTAMP:20260419T214111
CREATED:20250717T144206Z
LAST-MODIFIED:20250717T144206Z
UID:1120-1762473600-1762559999@opeka.org.uk
SUMMARY:Art and Video Gaming (Inna and Chris)
DESCRIPTION:
URL:https://opeka.org.uk/event/art-and-video-gaming-inna-and-chris-6
LOCATION:Carswell Centre\, Carswell Centre\, Eaglesham\, G76 0AS\, United Kingdom
ATTACH;FMTTYPE=image/webp:https://opeka.org.uk/wp-content/uploads/2025/06/Art-and-Gaming.webp
END:VEVENT
BEGIN:VEVENT
DTSTART;VALUE=DATE:20251106
DTEND;VALUE=DATE:20251107
DTSTAMP:20260419T214111
CREATED:20250907T165243Z
LAST-MODIFIED:20250907T165243Z
UID:1151-1762387200-1762473599@opeka.org.uk
SUMMARY:Music and Seated Yoga (Johnny and Alison)
DESCRIPTION:
URL:https://opeka.org.uk/event/music-and-seated-yoga-johnny-and-alison-5
LOCATION:Carswell Centre\, Carswell Centre\, Eaglesham\, G76 0AS\, United Kingdom
ATTACH;FMTTYPE=image/webp:https://opeka.org.uk/wp-content/uploads/2025/06/Music-and-Seated-Yoga.webp
END:VEVENT
BEGIN:VEVENT
DTSTART;VALUE=DATE:20251104
DTEND;VALUE=DATE:20251105
DTSTAMP:20260419T214111
CREATED:20250907T164336Z
LAST-MODIFIED:20250907T165659Z
UID:1137-1762214400-1762300799@opeka.org.uk
SUMMARY:Music and Massage (Johnny & Elaine\, Elaine and Mandy)
DESCRIPTION:
URL:https://opeka.org.uk/event/music-and-massage-johnny-elaine-elaine-and-mandy-18
LOCATION:Prince & Princess of Wales Hospice\, Prince & Princess of Wales Hospice\, Glasgow\, G41 5BW\, United Kingdom
ATTACH;FMTTYPE=image/webp:https://opeka.org.uk/wp-content/uploads/2025/06/Music-and-Massage.webp
END:VEVENT
BEGIN:VEVENT
DTSTART;VALUE=DATE:20251028
DTEND;VALUE=DATE:20251029
DTSTAMP:20260419T214111
CREATED:20250907T164315Z
LAST-MODIFIED:20250907T165058Z
UID:1135-1761609600-1761695999@opeka.org.uk
SUMMARY:Music and Massage (Johnny & Elaine\, Elaine and Mandy)
DESCRIPTION:
URL:https://opeka.org.uk/event/music-and-massage-johnny-elaine-elaine-and-mandy-17
LOCATION:Prince & Princess of Wales Hospice\, Prince & Princess of Wales Hospice\, Glasgow\, G41 5BW\, United Kingdom
ATTACH;FMTTYPE=image/webp:https://opeka.org.uk/wp-content/uploads/2025/06/Music-and-Massage.webp
END:VEVENT
BEGIN:VEVENT
DTSTART;VALUE=DATE:20251024
DTEND;VALUE=DATE:20251025
DTSTAMP:20260419T214111
CREATED:20250907T170104Z
LAST-MODIFIED:20250907T170513Z
UID:1171-1761264000-1761350399@opeka.org.uk
SUMMARY:Art and Video Gaming (Inna and Chris)
DESCRIPTION:
URL:https://opeka.org.uk/event/art-and-video-gaminginna-and-chris-3
LOCATION:Carswell Centre\, Carswell Centre\, Eaglesham\, G76 0AS\, United Kingdom
ATTACH;FMTTYPE=image/webp:https://opeka.org.uk/wp-content/uploads/2025/06/Art-and-Gaming.webp
END:VEVENT
BEGIN:VEVENT
DTSTART;VALUE=DATE:20251023
DTEND;VALUE=DATE:20251024
DTSTAMP:20260419T214111
CREATED:20250613T151724Z
LAST-MODIFIED:20250710T115154Z
UID:505-1761177600-1761263999@opeka.org.uk
SUMMARY:Music and Golf
DESCRIPTION:
URL:https://opeka.org.uk/event/music-and-golf-2
LOCATION:Carswell Centre\, Carswell Centre\, Eaglesham\, G76 0AS\, United Kingdom
ATTACH;FMTTYPE=image/webp:https://opeka.org.uk/wp-content/uploads/2025/06/Music-and-Golf.webp
END:VEVENT
END:VCALENDAR