BEGIN:VCALENDAR
VERSION:2.0
PRODID:-//Opeka - ECPv6.15.16//NONSGML v1.0//EN
CALSCALE:GREGORIAN
METHOD:PUBLISH
X-ORIGINAL-URL:https://opeka.org.uk
X-WR-CALDESC:Events for Opeka
REFRESH-INTERVAL;VALUE=DURATION:PT1H
X-Robots-Tag:noindex
X-PUBLISHED-TTL:PT1H
BEGIN:VTIMEZONE
TZID:UTC
BEGIN:STANDARD
TZOFFSETFROM:+0000
TZOFFSETTO:+0000
TZNAME:UTC
DTSTART:20250101T000000
END:STANDARD
END:VTIMEZONE
BEGIN:VEVENT
DTSTART;VALUE=DATE:20260521
DTEND;VALUE=DATE:20260522
DTSTAMP:20260419T133029
CREATED:20260105T171821Z
LAST-MODIFIED:20260105T171821Z
UID:1370-1779321600-1779407999@opeka.org.uk
SUMMARY:Cycling at Glasgow Green
DESCRIPTION:
URL:https://opeka.org.uk/event/cycling-at-glasgow-green-8
LOCATION:Carswell Centre\, Carswell Centre\, Eaglesham\, G76 0AS\, United Kingdom
ATTACH;FMTTYPE=image/webp:https://opeka.org.uk/wp-content/uploads/2025/06/Cycling.webp
END:VEVENT
END:VCALENDAR