BEGIN:VCALENDAR
VERSION:2.0
PRODID:-//Opeka - ECPv6.15.16//NONSGML v1.0//EN
CALSCALE:GREGORIAN
METHOD:PUBLISH
X-WR-CALNAME:Opeka
X-ORIGINAL-URL:https://opeka.org.uk
X-WR-CALDESC:Events for Opeka
REFRESH-INTERVAL;VALUE=DURATION:PT1H
X-Robots-Tag:noindex
X-PUBLISHED-TTL:PT1H
BEGIN:VTIMEZONE
TZID:UTC
BEGIN:STANDARD
TZOFFSETFROM:+0000
TZOFFSETTO:+0000
TZNAME:UTC
DTSTART:20250101T000000
END:STANDARD
END:VTIMEZONE
BEGIN:VEVENT
DTSTART;VALUE=DATE:20260312
DTEND;VALUE=DATE:20260313
DTSTAMP:20260419T143733
CREATED:20260105T171408Z
LAST-MODIFIED:20260105T171408Z
UID:1351-1773273600-1773359999@opeka.org.uk
SUMMARY:Music and Baking (Johnny and Lesley)
DESCRIPTION:
URL:https://opeka.org.uk/event/music-and-baking-johnny-and-lesley-8
LOCATION:Carswell Centre\, Carswell Centre\, Eaglesham\, G76 0AS\, United Kingdom
ATTACH;FMTTYPE=image/webp:https://opeka.org.uk/wp-content/uploads/2025/07/Music-and-Baking.webp
END:VEVENT
END:VCALENDAR